BEGIN:VCALENDAR
VERSION:2.0
PRODID:-//Sweet Skills - ECPv6.15.17//NONSGML v1.0//EN
CALSCALE:GREGORIAN
METHOD:PUBLISH
X-WR-CALNAME:Sweet Skills
X-ORIGINAL-URL:https://sweetskills.ca
X-WR-CALDESC:Events for Sweet Skills
REFRESH-INTERVAL;VALUE=DURATION:PT1H
X-Robots-Tag:noindex
X-PUBLISHED-TTL:PT1H
BEGIN:VTIMEZONE
TZID:America/Vancouver
BEGIN:DAYLIGHT
TZOFFSETFROM:-0800
TZOFFSETTO:-0700
TZNAME:PDT
DTSTART:20250309T100000
END:DAYLIGHT
BEGIN:STANDARD
TZOFFSETFROM:-0700
TZOFFSETTO:-0800
TZNAME:PST
DTSTART:20251102T090000
END:STANDARD
BEGIN:DAYLIGHT
TZOFFSETFROM:-0800
TZOFFSETTO:-0700
TZNAME:PDT
DTSTART:20260308T100000
END:DAYLIGHT
BEGIN:STANDARD
TZOFFSETFROM:-0700
TZOFFSETTO:-0800
TZNAME:PST
DTSTART:20261101T090000
END:STANDARD
BEGIN:DAYLIGHT
TZOFFSETFROM:-0800
TZOFFSETTO:-0700
TZNAME:PDT
DTSTART:20270314T100000
END:DAYLIGHT
BEGIN:STANDARD
TZOFFSETFROM:-0700
TZOFFSETTO:-0800
TZNAME:PST
DTSTART:20271107T090000
END:STANDARD
END:VTIMEZONE
BEGIN:VEVENT
DTSTART;TZID=America/Vancouver:20260505T170000
DTEND;TZID=America/Vancouver:20260526T200000
DTSTAMP:20260424T015607
CREATED:20260228T162000Z
LAST-MODIFIED:20260402T020712Z
UID:9121-1778000400-1779825600@sweetskills.ca
SUMMARY:Whistler IntAdv Progression Series - May
DESCRIPTION:Ready to boost your riding confidence and deepen your love of mountain biking? Then join our 4-week intermediate women’s mountain bike clinic in Whistler. \nJoin our team of experienced female coaches as we hit the trails weekly. Whether you’re aiming to conquer challenging switchback corners\, perfect your rock slab riding\, achieve those technical uphill challenges\, tackle steeper descents\, or master line selection\, our progression series has got you covered. \n\n\n\n\n\nDuring these 3-hour clinics\, we’ll dive into various skills\, hit the trails for practical application\, and provide ample time for practice. Plus\, you’ll have the opportunity to discover new trails\, meet fellow riders\, share laughs and high fives\, and expand your riding partners. And after the final class\, we’ll celebrate for some après-ride fun and prizes! \nThis IntAdvanced series is tailored for strong intermediate riders and above who are comfortable on Whistler’s blue trails and some easy blacks. We’ll focus on honing skills and boosting confidence to tackle more challenging features and black lines. Expect to explore trails like 99’er\, Beaver Pass\, A Cut Above\, Cut Yer Bars black line\, Business Time\, Tunnel Vision\, and more. Trail choices always depend on whether and needs of the group. \n\n\n\n\n\nSkill & Fitness Level:\nSkill Level: IA (IntAdvanced)  Fitness Level 3+ *Unsure if this is the right clinic for you? Please email us with questions. \nPrice & Payment:\n$395 +gst \n*Payments by credit card incur an extra 2.9% fee\, Etransfer payments have no fees.  Send Etransfer payments to info@sweetskills.ca \n$5 of your registration fee is donated to the local trail association. \n5-8pm Tue May 5\, 12\, 19\, 26 \nWAITLIST: Once we get 3 on the waitlist we can make another group!
URL:https://sweetskills.ca/event/whistler-women-mountain-bike-lessons/
LOCATION:Whistler
CATEGORIES:Clinics & Privates,Whistler
ATTACH;FMTTYPE=image/jpeg:https://sweetskills.ca/wp-content/uploads/2024/09/RX107767.jpg
END:VEVENT
BEGIN:VEVENT
DTSTART;TZID=America/Vancouver:20260505T170000
DTEND;TZID=America/Vancouver:20260526T200000
DTSTAMP:20260424T015607
CREATED:20260331T151518Z
LAST-MODIFIED:20260402T021105Z
UID:9116-1778000400-1779825600@sweetskills.ca
SUMMARY:Whistler Intermediate Progression Series - May
DESCRIPTION:Need a boost of confidence to your riding? Keep your wheels turning and your stoke high as you pedal and practice weekly with our Sweet Skills all female coaching team!  Learn tons of new skills on the trail that will help you get to the next level of riding. Meet new riding buddies and have tons of laughs and cheers in the forest. These progression series are the best! \nGet over some hurdles you may have with your riding such as switchback corners\, wheel lifts\, steeper descents\, picking lines\, staying relaxed\, and braking in control. These 3 hour sessions give us plenty of time to review skills\, test those skills out on the trails and explore new zones to expand your trail riding network! After the last class of the series come join us at RMU Blackcomb for an après! \nThis intermediate series is great for a rider who is confident on 90% of the Lost Lake singletrack and is looking to explore more challenging trails outside of Lost Lake (first session will be in Lost Lake to work on rock rolling skills). Trails we’ll venture to may include any of the following: Emerald Forest\, Desert Platter\, Danimal\, Flashback\, HiHi\, Cut Yer Bars\, etc \nSkill & Fitness Level:\nSkill Level: I (Intermediate)  Fitness Level 3+ *Unsure if this is the right clinic for you? Please email us with questions. \nPrice & Payment:\n$395 +gst \n*Payments by credit card incur an extra 2.9% fee\, Etransfer payments have no fees.  Send Etransfer payments to info@sweetskills.ca \n$5 of your registration fee is donated to the local trail association. \n5-8pm Tue May 5\, 12\, 19\, 26 \nWAITLIST – Sign up and once we get 3 more we will add another coach!
URL:https://sweetskills.ca/event/whistler-womens-mountain-bike-lessons/
LOCATION:Whistler
CATEGORIES:Clinics & Privates,Whistler
ATTACH;FMTTYPE=image/jpeg:https://sweetskills.ca/wp-content/uploads/2022/12/Whistler-rock-rolls.jpg
END:VEVENT
BEGIN:VEVENT
DTSTART;TZID=America/Vancouver:20260506T170000
DTEND;TZID=America/Vancouver:20260527T200000
DTSTAMP:20260424T015607
CREATED:20260112T055934Z
LAST-MODIFIED:20260401T142045Z
UID:2472-1778086800-1779912000@sweetskills.ca
SUMMARY:Whistler BegIntermediate Progression Series - May
DESCRIPTION:Have you completed our beginner course and feel ready for more?Are you riding in Lost Lake but unsure how to handle technical features?Or maybe you keep riding the same trails and want to explore new terrain. \nJoin us for this 4 week series were we’ll explore so many fun trails and dial in all the skills needed to start you on your journey to being a confident intermediate rider. \nGet over some hurdles you may have with your riding\, such as managing technical terrain\, how to stay on your bike while climbing\, braking control down rock rolls\, switchback corners\, picking lines\, and of course staying relaxed and having fun! \nThese 3 hour sessions give us plenty of time to review skills\, test those skills out on the trails and explore new zones to expand your trail riding network!  Our first session always starts in Lost Lake\, and then we will venture out into the rootier and more technical trails on West Side such as Emerald Forest and Cut yer Bars. \nSkill & Fitness Level:\nSkill Level: BI  Fitness Level 2+ *Unsure if this is the right clinic for you? Please email us with questions. \nPrice & Payment:\n$395 + gst \n*Payments by credit card incur an extra 2.9% fee\, Etransfer payments have no fees.  Send Etransfer payments to info@sweetskills.ca \n$5 of your registration fee is automatically donated to the local trail association. \n5-8pm Wednesdays May 3\, 10\, 17\, 24
URL:https://sweetskills.ca/event/womens-mountain-bike-series/
LOCATION:Whistler
CATEGORIES:Clinics & Privates,Whistler
ATTACH;FMTTYPE=image/jpeg:https://sweetskills.ca/wp-content/uploads/2022/12/1-mile-tech.jpg
END:VEVENT
BEGIN:VEVENT
DTSTART;TZID=America/Vancouver:20260506T170000
DTEND;TZID=America/Vancouver:20260527T200000
DTSTAMP:20260424T015607
CREATED:20260210T162514Z
LAST-MODIFIED:20260401T141746Z
UID:9123-1778086800-1779912000@sweetskills.ca
SUMMARY:Whistler Beginner Progression Series - May
DESCRIPTION:Are you new to mountain biking and not sure where to start? Then start with us! \nIn this 4-week beginner women’s mountain bike progression series\, Sweet Skills coaches teach you the fundamentals you need for an awesome summer of riding. Step by step\, you build skills\, confidence\, and control. \nOur patient and supportive female coaches guide you through everything. First\, you learn about your bike and proper setup. Then\, you learn exactly how to ride it with confidence. \nThe first 2 sessions will focus on practicing foundational bike skills in an open area.  This will set you up with great bike habits from the get go!  The coaches will work with you on a stable body position for different terrain\, teach you to use your gears and brakes\, how to negotiate corners and bumps on the trail\, and most of all how to relax and have fun. After dialing in these skills\, we will take what we learned to the trails. \nMeet new riding buddies to ride with in between our sessions\, discover new trails that are at your ability level\, and watch your stoke level and skills soar! After the last class of the series come join us for an après celebration with draw prizes. \nThis clinic is aimed at Beginner riders who are comfortable riding level pedals on crushed gravel trails\, can execute basic corners and are ready to learn how to ride the technical trails in Lost Lake. Whether you are brand new to the technical or just starting to get into it we’ll have a group for you. \n*If you are brand new to biking and not yet comfortable with standing on level pedals on your bike then the Super Beginner clinic is the one for you or start with a private lesson. \nSkill & Fitness Level:\nSkill Level: B  Fitness Level 2-4 *Unsure if this is the right clinic for you? Please email us with questions. \nPrice & Payment:\n$395 + gst \n*Payments by credit card incur an extra 2.9% fee\, Etransfer payments have no fees.  Send Etransfer payments to info@sweetskills.ca \n$5 of your registration fee is automatically donated to the local trail association. \n5-8pm Wednesdays May 3\, 10\, 17\, 24
URL:https://sweetskills.ca/event/beginner-mountain-bike-lessons/
LOCATION:Whistler
CATEGORIES:Clinics & Privates,Whistler
ATTACH;FMTTYPE=image/jpeg:https://sweetskills.ca/wp-content/uploads/2024/02/beginnerbalance-1.jpg
END:VEVENT
END:VCALENDAR