BEGIN:VCALENDAR
VERSION:2.0
PRODID:-//Sweet Skills - ECPv6.15.17//NONSGML v1.0//EN
CALSCALE:GREGORIAN
METHOD:PUBLISH
X-WR-CALNAME:Sweet Skills
X-ORIGINAL-URL:https://sweetskills.ca
X-WR-CALDESC:Events for Sweet Skills
REFRESH-INTERVAL;VALUE=DURATION:PT1H
X-Robots-Tag:noindex
X-PUBLISHED-TTL:PT1H
BEGIN:VTIMEZONE
TZID:America/Vancouver
BEGIN:DAYLIGHT
TZOFFSETFROM:-0800
TZOFFSETTO:-0700
TZNAME:PDT
DTSTART:20230312T100000
END:DAYLIGHT
BEGIN:STANDARD
TZOFFSETFROM:-0700
TZOFFSETTO:-0800
TZNAME:PST
DTSTART:20231105T090000
END:STANDARD
BEGIN:DAYLIGHT
TZOFFSETFROM:-0800
TZOFFSETTO:-0700
TZNAME:PDT
DTSTART:20240310T100000
END:DAYLIGHT
BEGIN:STANDARD
TZOFFSETFROM:-0700
TZOFFSETTO:-0800
TZNAME:PST
DTSTART:20241103T090000
END:STANDARD
BEGIN:DAYLIGHT
TZOFFSETFROM:-0800
TZOFFSETTO:-0700
TZNAME:PDT
DTSTART:20250309T100000
END:DAYLIGHT
BEGIN:STANDARD
TZOFFSETFROM:-0700
TZOFFSETTO:-0800
TZNAME:PST
DTSTART:20251102T090000
END:STANDARD
BEGIN:DAYLIGHT
TZOFFSETFROM:-0800
TZOFFSETTO:-0700
TZNAME:PDT
DTSTART:20260308T100000
END:DAYLIGHT
BEGIN:STANDARD
TZOFFSETFROM:-0700
TZOFFSETTO:-0800
TZNAME:PST
DTSTART:20261101T090000
END:STANDARD
END:VTIMEZONE
BEGIN:VEVENT
DTSTART;TZID=America/Vancouver:20250426T090000
DTEND;TZID=America/Vancouver:20250427T140000
DTSTAMP:20260423T074547
CREATED:20250128T192607Z
LAST-MODIFIED:20260209T002811Z
UID:9091-1745658000-1745762400@sweetskills.ca
SUMMARY:Kelowna Tech & Flow 2 Days - BegIntermediate
DESCRIPTION:Check out new trails\, learn tons of new skills and have so much fun in this 2 day BegIntermediate progression clinic in Kelowna! Tons of skill review and lots of trail practice over the 2 days while experiencing 2 completely different trail systems at Crawford and at Smith Creek. \nAre you struggling to feel confident on intermediate trails? Let us help you bridge the gap with some more skills to boost that confidence! We’ll take the time to dial in the basics\, work on riding in technical terrain and have you feeling comfortable and confident with your body position by the end of the session. \nThe Crawford trails at Myra-Bellevue Park have some great terrain for the BegIntemediate rider to work on their technical skills while Smith Creek trails are a bit more flowy and great for working and cornering\, climbing\, and riding elevated features. Skills we’ll cover over both days will include lots of work on body position in different terrain\, braking without skidding\, switchback corners on the up and down\, rolling through technical terrain\, high speed corners and line selection. \nWe’ll help you get set up for a summer of success with some nice new habits! For Crawford trails\, the majority of the clinic will be spent learning and practicing skills on the lower trails such as Fairlane\, Spring Bypass and Jeckyl (all depending on group) along with rock roll practice in the bench area. Smith Creek trails such as Holy Pail / Fomo. Trail choices are all weather and group dependant. \nSkill & Fitness Level:\nSkill Level: BI (BegIntermediate) Fitness Level 2-5 *Unsure if this is the right clinic for you? Please email us with questions. \nPrice & Payment:\n$395 + gst early bird (Feb 15-28) $425 + gst as of March 1st \n*Payments by credit card incur an extra 2.9% fee\, Etransfer payments have no fees.  Send Etransfer payments to info@sweetskills.ca \n$5 of your registration fee is automatically donated to the local trail association. \nDay 1 9am – 3pm: Smith Creek Trails \nDay 2 9am-2pm: Crawford Trails
URL:https://sweetskills.ca/event/kelowna-mountain-bike-clinic/
LOCATION:Smith & Crawford trails – Kelowna
CATEGORIES:Clinics & Privates,Kelowna
ATTACH;FMTTYPE=image/jpeg:https://sweetskills.ca/wp-content/uploads/2024/09/RX106261.jpg
END:VEVENT
BEGIN:VEVENT
DTSTART;TZID=America/Vancouver:20250426T090000
DTEND;TZID=America/Vancouver:20250427T140000
DTSTAMP:20260423T074547
CREATED:20250128T191055Z
LAST-MODIFIED:20251104T075412Z
UID:9080-1745658000-1745762400@sweetskills.ca
SUMMARY:Kelowna Tech & Air 2 Days - IntAdv
DESCRIPTION:Ready to boost your skills on Kelowna’s rocky slabs and flowy singletrack?\nJoin Sweet Skills for this 2-day women’s mountain bike clinic in Kelowna\, designed for intermediate to advanced riders who want to level up their technical skills and jump confidence. \nWe’ll ride both Crawford’s technical trails and the fast\, flowy lines at Smith Creek\, giving you a mix of terrain to refine your skills. Whether you’re looking to improve body position\, corner with more speed\, or confidently ride rock slabs and small drops\, this camp is packed with progression-focused coaching. \nEach morning starts with a deep dive into key fundamentals like braking\, line choice\, body position on steeps\, and safe technique for tackling drops and loose descents. In the afternoon\, we’ll take it to the trails\, applying your new skills to real-world features and working on flow\, timing\, and trail speed. \nThis clinic is perfect for strong intermediate to advanced women mountain bikers who want to feel more control\, confidence\, and flow on harder blue and black trails. Expect a fun and supportive environment with experienced female coaches\, tons of personalized feedback\, and big gains in your riding. \nBe ready for a full day of riding\, bring a lunch & snacks\, lots of water\, appropriate clothing\, and all of the energy 😉 \nSkill & Fitness Level:\nSkill Level: IA-A  Fitness Level 4+ *Unsure if this is the right clinic for you? Please email us with questions. \nPrice & Payment:\n$415 + gst \n*Payments by credit card incur an extra 2.9% fee\, Etransfer payments have no fees.  Send Etransfer payments to info@sweetskills.ca \n$5 of your registration fee is automatically donated to the local trail association. \nDay 1 10am – 3pm: Smith Creek Trails \nDay 2 9am-2pm: Crawford Trails
URL:https://sweetskills.ca/event/kelowna-tech-air-2-days-intadv/
CATEGORIES:Clinics & Privates,Kelowna
ATTACH;FMTTYPE=image/jpeg:https://sweetskills.ca/wp-content/uploads/2023/01/Kelowna-smith-tera.jpg
END:VEVENT
BEGIN:VEVENT
DTSTART;TZID=America/Vancouver:20250425T150000
DTEND;TZID=America/Vancouver:20250425T190000
DTSTAMP:20260423T074547
CREATED:20250128T185751Z
LAST-MODIFIED:20251104T075023Z
UID:9071-1745593200-1745607600@sweetskills.ca
SUMMARY:Kelowna Intermediate Tech Skills - 4hrs Friday
DESCRIPTION:Take your trail skills to the next level with Sweet Skills’ intermediate mountain bike clinic in Kelowna. This 4-hour session is designed for women who are confident on green and flowy blue trails and ready to tackle more technical features with control and flow. \nWe’ll focus on developing the body positioning\, braking\, and line choice needed for steeper terrain\, tighter corners\, and small roll-downs or rock features. With expert guidance from our experienced female coaches\, you’ll gain the confidence to navigate technical sections and approach obstacles with a calm and capable mindset. \nUsing Kelowna’s Crawford trail network\, this clinic offers a supportive progression into technical intermediate riding skills. Expect a mix of sessioning features and trail-based learning to help build your skill set and trail awareness. \nIf you’ve been riding for a while and want to feel smoother\, safer\, and more in control on varied terrain\, this intermediate women’s mountain bike clinic is for you. \nBe ready for a lot of learning and riding\, bring snacks\, lots of water\, appropriate clothing\, and lots of energy 😉 \nSkill & Fitness Level:\nSkill Level: Int  Fitness Level 3+ *Unsure if this is the right clinic for you? Please email us with questions. \nPrice & Payment:\n$168 + gst \n*Payments by credit card incur an extra 2.9% fee\, Etransfer payments have no fees.  Send Etransfer payments to info@sweetskills.ca \n$5 of your registration fee is automatically donated to the local trail association.
URL:https://sweetskills.ca/event/kelowna-intermediate-tech-skills-4hrs-friday/
LOCATION:Crawford Trails | Kelowna\, Stewart Rd E\, Kelowna\, BC\, CA
CATEGORIES:Clinics & Privates,Kelowna
ATTACH;FMTTYPE=image/jpeg:https://sweetskills.ca/wp-content/uploads/2023/02/Kelowna_begint.jpg
END:VEVENT
BEGIN:VEVENT
DTSTART;TZID=America/Vancouver:20250425T150000
DTEND;TZID=America/Vancouver:20250425T190000
DTSTAMP:20260423T074547
CREATED:20241228T193219Z
LAST-MODIFIED:20251104T074806Z
UID:9093-1745593200-1745607600@sweetskills.ca
SUMMARY:Kelowna Beginner Fundamentals - Friday 4hrs
DESCRIPTION:Looking to build confidence and learn the fundamentals of mountain biking in a supportive\, women-focused environment? Join Sweet Skills for a women’s beginner mountain bike camp in Kelowna and gain the skills you need to feel confident on the trails. \nThis half-day skills session is perfect for new riders who want to improve control\, comfort\, and technique on beginner-friendly singletrack. The Crawford trail network provides the ideal setting for women’s mountain bike coaching – smooth terrain with just enough technical features to keep things fun and educational. \nWe’ll start with a bike setup and safety check\, then move into the core skills that every rider needs: body positioning\, gearing\, basic cornering\, braking skills\, how to adjust your body positioning for different pitches\, and rolling over small obstacles and much more. You’ll leave the session with a solid foundation\, more confidence\, and new habits to set you up for a summer of riding success. \nSkill & Fitness Level:\nSkill Level: B  Fitness Level 2-5 *Unsure if this is the right clinic for you? Please email us with questions. \nPrice & Payment:\n$168 + gst \n*Payments by credit card incur an extra 2.9% fee\, Etransfer payments have no fees.  Send Etransfer payments to info@sweetskills.ca \n$5 of your registration fee is automatically donated to the local trail association.
URL:https://sweetskills.ca/event/kelowna-mountain-bike-camp-beginner/
LOCATION:Crawford Trails | Kelowna\, Stewart Rd E\, Kelowna\, BC\, CA
CATEGORIES:Clinics & Privates,Kelowna
ATTACH;FMTTYPE=image/jpeg:https://sweetskills.ca/wp-content/uploads/2023/01/Kelowna-beg.jpg
END:VEVENT
BEGIN:VEVENT
DTSTART;VALUE=DATE:20240531
DTEND;VALUE=DATE:20240608
DTSTAMP:20260423T074547
CREATED:20221230T205055Z
LAST-MODIFIED:20240202T151628Z
UID:1644-1717113600-1717804799@sweetskills.ca
SUMMARY:Croatia Women's Treasure Island Retreat
DESCRIPTION:Join Sweet Skills and Big Mountain Bike Adventures for a dream trip to Europe! \nAre you ready for a trip of a lifetime? One of the most incredible European destinations with all the makers of the best vacation you could imagine! Sweet Skills and Big Mountain Bike Adventures are excited to offer this popular trip again in 2024 for our 4th year. \nJoin us on a private motor yacht as we sail the turquoise Adriatic Sea and explore Croatia’s Southern Dalmatian Islands by bike. It’s one of the most beautiful destinations you can boat to in Europe – bonus we get to ride our bikes along the way and hang out with a super fun crew of women! \nRide fun and scenic trails with local guides and Sweet Skills coaches.  Wander the historic harbour towns\, rustic bars\, and sights that we dock in. Time on the boat isn’t just about getting to our next amazing destination\, we’ll enjoy the on-board gourmet meals\, drinks on the deck\, views\, and swims in quiet coves. \nEvery day is a new island adventure. We usually depart the boat for a whole day which may include lunch in a small town partway through the ride or at the end\, swims in the sea and lots of stops for amazing photos. The riding starts each day with a climb as we leave the boat at the doc. There will be quite a few miles on quiet paved roads\, gravel double track\, then finishing with rocky descents including some switchbacks. Riding along the shoreline\, stopping for gelato and a swim and enjoying some history along the way are some of the daily highlights. \nSKILL & FITNESS LEVEL:\nSkill Level: I-A  Fitness Level 4+ *Ebikes available. If you’re fitness level is not high you should rent an ebike for the ultimate best time! Unsure if you’re fitness level and ability match this camp? Call Sylvie to discuss: 604-966-8330. See itinerary link below for details. \nINCLUDED\n\n7 days of guided & coached riding on the trails (2 ride options provided most days\, so you can pick what suits you best!)\n7 nights onboard the beautiful MS San Snova – 101 ft long motorized yacht entirely crafted of oak\nHearty and delicious meals inspired by the local flavour prepared by our onboard chef\nDaily stretch sessions\nAprés activities such as sunset cruises\, leisurely swims\, bevvies lounging on the deck just to name a few\nTime to explore the towns we dock in\, have a glass of vinho & tapas at local cafe\, and take in the sights\nBig Mountain swag\n\nPRICE\n$2895 USD (land/boat costs/most meals) 25% deposit to book\, payment will be with Big Mountain Bike Adventures. We are currently FULL! Sign up on waitlist or check out our September option. \nHow to Register:\nFill in the registration form below then we will contact you to finish the registration and deposit process with Big Mountain. \nArticle on 2019 trip by Elladee Brown HERE
URL:https://sweetskills.ca/event/croatia-womens-treasure-island-retreat/
CATEGORIES:Camps & Adventures
ATTACH;FMTTYPE=image/png:https://sweetskills.ca/wp-content/uploads/2023/06/croatia2023-1.png
END:VEVENT
END:VCALENDAR